BEGIN:VCALENDAR
METHOD:PUBLISH
PRODID:-//Weblication CMS
VERSION:2.0
BEGIN:VEVENT
SUMMARY:Patientenverfügung und Vorsorgevollmacht
DTSTART:20251128T140000
DTEND:20251128T173000
DESCRIPTION:Kurs-Nr: 25-207
LOCATION:Seminarräume Hospiz Bergstraße, Am Wambolterhof 3, 64625 Bensheim
UID:https://hospiz-verein-bergstrasse.de/de/veranstaltungen/termine/25-207-PV-VV-Kopie.php
URL:https://hospiz-verein-bergstrasse.de/de/veranstaltungen/termine/25-207-PV-VV-Kopie.php
END:VEVENT
END:VCALENDAR