BEGIN:VCALENDAR
METHOD:PUBLISH
PRODID:-//Weblication CMS
VERSION:2.0
BEGIN:VEVENT
SUMMARY:Reisekoffer durch das Land der Trauer – Praxis
DTSTART:20251108T093000
DTEND:20251108T160000
DESCRIPTION:Kurs-Nr: 25-213
LOCATION:Seminarräume Hospiz Bergstraße, Am Wambolterhof 3, 64625 Bensheim
UID:https://hospiz-verein-bergstrasse.de/de/veranstaltungen/termine/25-213-Reisekoffer.php
URL:https://hospiz-verein-bergstrasse.de/de/veranstaltungen/termine/25-213-Reisekoffer.php
END:VEVENT
END:VCALENDAR