BEGIN:VCALENDAR
METHOD:PUBLISH
PRODID:-//Weblication CMS
VERSION:2.0
BEGIN:VEVENT
SUMMARY:Letzte Hilfe Kurs Erwachsene - Präsenz
DTSTART:20260228T140000
DTEND:20260228T180000
DESCRIPTION:Kurs-Nr: 26-001
LOCATION:Seminarräume Hospiz Bergstraße, Am Wambolterhof 3, 64625 Bensheim
UID:https://hospiz-verein-bergstrasse.de/de/veranstaltungen/termine/26-001-Letzte-Hilfe.php
URL:https://hospiz-verein-bergstrasse.de/de/veranstaltungen/termine/26-001-Letzte-Hilfe.php
END:VEVENT
END:VCALENDAR