BEGIN:VCALENDAR
METHOD:PUBLISH
PRODID:-//Weblication CMS
VERSION:2.0
BEGIN:VEVENT
SUMMARY:Spickzettel für den Umgang mit Trauernden
DTSTART:20260926T090000
DTEND:20260926T150000
DESCRIPTION:Kurs-Nr: 26-209 Intensiv-Workshop
LOCATION:Seminarräume Hospiz Bergstraße, Am Wambolterhof 3, 64625 Bensheim
UID:https://hospiz-verein-bergstrasse.de/de/veranstaltungen/termine/26-209-Umgang-mit-Trauernden.php
URL:https://hospiz-verein-bergstrasse.de/de/veranstaltungen/termine/26-209-Umgang-mit-Trauernden.php
END:VEVENT
END:VCALENDAR